BEGIN:VCALENDAR
VERSION:2.0
PRODID:-//campogibralflamencos - ECPv6.15.20//NONSGML v1.0//EN
CALSCALE:GREGORIAN
METHOD:PUBLISH
X-ORIGINAL-URL:https://www.campogibralflamencos.com
X-WR-CALDESC:Eventos para campogibralflamencos
REFRESH-INTERVAL;VALUE=DURATION:PT1H
X-Robots-Tag:noindex
X-PUBLISHED-TTL:PT1H
BEGIN:VTIMEZONE
TZID:UTC
BEGIN:STANDARD
TZOFFSETFROM:+0000
TZOFFSETTO:+0000
TZNAME:UTC
DTSTART:20250101T000000
END:STANDARD
END:VTIMEZONE
BEGIN:VEVENT
DTSTART;TZID=UTC:20260502T170000
DTEND;TZID=UTC:20260502T170000
DTSTAMP:20260422T082927
CREATED:20260415T173905Z
LAST-MODIFIED:20260415T174025Z
UID:3754-1777741200-1777741200@www.campogibralflamencos.com
SUMMARY:Mayo Flamenco - Peña Flamenca Sanroqueña
DESCRIPTION:
URL:https://www.campogibralflamencos.com/event/mayo-flamenco-pena-flamenca-sanroquena
LOCATION:Peña Flamenca Sanroqueña\, Calle La Cruz\, altos del Mercadona\, San Roque\, Cádiz\, 11360\, Spain
ATTACH;FMTTYPE=image/png:https://www.campogibralflamencos.com/wp-content/uploads/2026/04/Carteles-calendario-1-2.png
ORGANIZER;CN="Pe%C3%B1a Flamenca Sanroque%C3%B1a":MAILTO:psanroquecadiz79@gmail.com
END:VEVENT
END:VCALENDAR