BEGIN:VCALENDAR
VERSION:2.0
PRODID:-//campogibralflamencos - ECPv6.15.20//NONSGML v1.0//EN
CALSCALE:GREGORIAN
METHOD:PUBLISH
X-WR-CALNAME:campogibralflamencos
X-ORIGINAL-URL:https://www.campogibralflamencos.com
X-WR-CALDESC:Eventos para campogibralflamencos
REFRESH-INTERVAL;VALUE=DURATION:PT1H
X-Robots-Tag:noindex
X-PUBLISHED-TTL:PT1H
BEGIN:VTIMEZONE
TZID:UTC
BEGIN:STANDARD
TZOFFSETFROM:+0000
TZOFFSETTO:+0000
TZNAME:UTC
DTSTART:20250101T000000
END:STANDARD
END:VTIMEZONE
BEGIN:VEVENT
DTSTART;TZID=UTC:20260308T163000
DTEND;TZID=UTC:20260308T163000
DTSTAMP:20260424T080000
CREATED:20260306T194957Z
LAST-MODIFIED:20260306T195130Z
UID:3613-1772987400-1772987400@www.campogibralflamencos.com
SUMMARY:Día de la Mujer
DESCRIPTION:
URL:https://www.campogibralflamencos.com/event/dia-de-la-mujer
LOCATION:Hostal Blumen\, Calle Robles\, 0\, Algeciras\, Cádiz\, 11205\, Spain
ATTACH;FMTTYPE=image/png:https://www.campogibralflamencos.com/wp-content/uploads/2026/03/Carteles-calendario-1.png
END:VEVENT
END:VCALENDAR