BEGIN:VCALENDAR
VERSION:2.0
PRODID:-//campogibralflamencos - ECPv6.15.20//NONSGML v1.0//EN
CALSCALE:GREGORIAN
METHOD:PUBLISH
X-WR-CALNAME:campogibralflamencos
X-ORIGINAL-URL:https://www.campogibralflamencos.com
X-WR-CALDESC:Eventos para campogibralflamencos
REFRESH-INTERVAL;VALUE=DURATION:PT1H
X-Robots-Tag:noindex
X-PUBLISHED-TTL:PT1H
BEGIN:VTIMEZONE
TZID:UTC
BEGIN:STANDARD
TZOFFSETFROM:+0000
TZOFFSETTO:+0000
TZNAME:UTC
DTSTART:20250101T000000
END:STANDARD
END:VTIMEZONE
BEGIN:VEVENT
DTSTART;TZID=UTC:20260130T190000
DTEND;TZID=UTC:20260130T190000
DTSTAMP:20260424T091806
CREATED:20260115T165952Z
LAST-MODIFIED:20260115T165952Z
UID:3180-1769799600-1769799600@www.campogibralflamencos.com
SUMMARY:José Manuel León 'Guitarra sola'
DESCRIPTION:
URL:https://www.campogibralflamencos.com/event/jose-manuel-leon-guitarra-sola
LOCATION:Centro de Interpretacion Paco de Lucia\, Calle Ruiz Zorrilla\, 3\, Algeciras\, Cádiz\, 11207\, Spain
ATTACH;FMTTYPE=image/png:https://www.campogibralflamencos.com/wp-content/uploads/2026/01/Carteles-calendario-3.png
ORGANIZER;CN="Emell Eventos":MAILTO:info@emelleventos.com
END:VEVENT
END:VCALENDAR